Package: peakCombiner Version: 0.99.602 Command: rm -rf peakCombiner.buildbin-libdir && mkdir peakCombiner.buildbin-libdir && /Users/biocbuild/BBS/utils/build-universal.sh peakCombiner_0.99.602.tar.gz /Library/Frameworks/R.framework/Resources/bin/R peakCombiner.buildbin-libdir StartedAt: 2025-10-15 02:59:42 -0400 (Wed, 15 Oct 2025) EndedAt: 2025-10-15 02:59:53 -0400 (Wed, 15 Oct 2025) EllapsedTime: 10.3 seconds RetCode: 0 Status: OK PackageFile: peakCombiner_0.99.602.tgz PackageFileSize: 450.7 KiB