Package: peakCombiner Version: 0.99.602 Command: /Library/Frameworks/R.framework/Resources/bin/R CMD build --keep-empty-dirs --no-resave-data peakCombiner StartedAt: 2025-10-14 17:19:45 -0400 (Tue, 14 Oct 2025) EndedAt: 2025-10-14 17:20:00 -0400 (Tue, 14 Oct 2025) EllapsedTime: 15.1 seconds RetCode: 0 Status: OK PackageFile: peakCombiner_0.99.602.tar.gz PackageFileSize: 368.3 KiB