Package: peakCombiner Version: 0.99.602 Maintainer: Markus Muckenhuber MaintainerEmail: markusmuckenhuber at gmx.at git_url: https://git.bioconductor.org/packages/peakCombiner git_branch: devel git_last_commit: fd2507d git_last_commit_date: 2025-09-03 09:34:08 -0400 (Wed, 03 Sep 2025)