Package: pdInfoBuilder Version: 1.75.0 Command: /home/biocbuild/bbs-3.23-bioc/R/bin/R CMD INSTALL pdInfoBuilder StartedAt: 2025-11-05 15:28:01 -0500 (Wed, 05 Nov 2025) EndedAt: 2025-11-05 15:28:32 -0500 (Wed, 05 Nov 2025) EllapsedTime: 30.9 seconds RetCode: 0 Status: OK