Package: pdInfoBuilder Version: 1.75.0 Command: /home/biocbuild/bbs-3.23-bioc/R/bin/R CMD build --keep-empty-dirs --no-resave-data pdInfoBuilder StartedAt: 2025-11-05 19:16:48 -0500 (Wed, 05 Nov 2025) EndedAt: 2025-11-05 19:17:20 -0500 (Wed, 05 Nov 2025) EllapsedTime: 32.0 seconds RetCode: 0 Status: OK PackageFile: pdInfoBuilder_1.75.0.tar.gz PackageFileSize: 348.1 KiB