Package: pdInfoBuilder Version: 1.73.0 Command: /Library/Frameworks/R.framework/Resources/bin/R CMD build --keep-empty-dirs --no-resave-data pdInfoBuilder StartedAt: 2025-10-16 19:10:07 -0400 (Thu, 16 Oct 2025) EndedAt: 2025-10-16 19:11:27 -0400 (Thu, 16 Oct 2025) EllapsedTime: 79.6 seconds RetCode: 0 Status: OK PackageFile: pdInfoBuilder_1.73.0.tar.gz PackageFileSize: 348.1 KiB