Package: pdInfoBuilder Version: 1.73.0 Command: rm -rf pdInfoBuilder.buildbin-libdir && mkdir pdInfoBuilder.buildbin-libdir && /Users/biocbuild/BBS/utils/build-universal.sh pdInfoBuilder_1.73.0.tar.gz /Library/Frameworks/R.framework/Resources/bin/R pdInfoBuilder.buildbin-libdir StartedAt: 2025-10-17 04:05:41 -0400 (Fri, 17 Oct 2025) EndedAt: 2025-10-17 04:06:31 -0400 (Fri, 17 Oct 2025) EllapsedTime: 49.9 seconds RetCode: 0 Status: OK PackageFile: pdInfoBuilder_1.73.0.tgz PackageFileSize: 823 KiB