Package: pdInfoBuilder Version: 1.73.0 Command: rm -rf pdInfoBuilder.buildbin-libdir && mkdir pdInfoBuilder.buildbin-libdir && /Users/biocbuild/BBS/utils/build-universal.sh pdInfoBuilder_1.73.0.tar.gz /Library/Frameworks/R.framework/Resources/bin/R pdInfoBuilder.buildbin-libdir StartedAt: 2025-09-29 22:46:05 -0400 (Mon, 29 Sep 2025) EndedAt: 2025-09-29 22:46:20 -0400 (Mon, 29 Sep 2025) EllapsedTime: 14.4 seconds RetCode: 0 Status: OK PackageFile: pdInfoBuilder_1.73.0.tgz PackageFileSize: 824.3 KiB