Package: pcaMethods Version: 2.3.0 Command: /home/biocbuild/bbs-3.23-bioc/R/bin/R CMD INSTALL pcaMethods StartedAt: 2025-11-03 15:12:16 -0500 (Mon, 03 Nov 2025) EndedAt: 2025-11-03 15:12:31 -0500 (Mon, 03 Nov 2025) EllapsedTime: 14.5 seconds RetCode: 0 Status: OK