Package: pcaMethods Version: 2.3.0 Command: /home/biocbuild/bbs-3.23-bioc/R/bin/R CMD build --keep-empty-dirs --no-resave-data pcaMethods StartedAt: 2025-11-03 19:05:52 -0500 (Mon, 03 Nov 2025) EndedAt: 2025-11-03 19:07:37 -0500 (Mon, 03 Nov 2025) EllapsedTime: 105.1 seconds RetCode: 0 Status: OK PackageFile: pcaMethods_2.3.0.tar.gz PackageFileSize: 1018 KiB