Package: pcaMethods Version: 2.1.0 Command: /Library/Frameworks/R.framework/Resources/bin/R CMD check --install=check:pcaMethods.install-out.txt --library=/Library/Frameworks/R.framework/Resources/library --no-vignettes --timings pcaMethods_2.1.0.tar.gz StartedAt: 2025-10-05 20:58:54 -0400 (Sun, 05 Oct 2025) EndedAt: 2025-10-05 20:59:40 -0400 (Sun, 05 Oct 2025) EllapsedTime: 45.5 seconds RetCode: 0 Status: OK CheckDir: pcaMethods.Rcheck Warnings: 0