Package: pcaExplorer Version: 3.3.0 Command: /home/biocbuild/R/R/bin/R CMD build --keep-empty-dirs --no-resave-data pcaExplorer StartedAt: 2025-09-30 02:09:39 -0000 (Tue, 30 Sep 2025) EndedAt: 2025-09-30 02:12:27 -0000 (Tue, 30 Sep 2025) EllapsedTime: 168.1 seconds RetCode: 0 Status: OK PackageFile: pcaExplorer_3.3.0.tar.gz PackageFileSize: 9.718 MiB