Package: pcaExplorer Version: 3.3.0 Command: chmod a+r pcaExplorer -R && F:\biocbuild\bbs-3.22-bioc\R\bin\R.exe CMD build --keep-empty-dirs --no-resave-data pcaExplorer StartedAt: 2025-08-14 22:13:46 -0400 (Thu, 14 Aug 2025) EndedAt: 2025-08-14 22:21:15 -0400 (Thu, 14 Aug 2025) EllapsedTime: 448.7 seconds RetCode: 0 Status: OK PackageFile: pcaExplorer_3.3.0.tar.gz PackageFileSize: 9.548 MiB