Package: pcaExplorer Version: 3.3.0 Command: rm -rf pcaExplorer.buildbin-libdir && mkdir pcaExplorer.buildbin-libdir && F:\biocbuild\bbs-3.22-bioc\R\bin\R.exe CMD INSTALL --build --library=pcaExplorer.buildbin-libdir pcaExplorer_3.3.0.tar.gz StartedAt: 2025-08-15 10:55:39 -0400 (Fri, 15 Aug 2025) EndedAt: 2025-08-15 10:57:16 -0400 (Fri, 15 Aug 2025) EllapsedTime: 96.6 seconds RetCode: 0 Status: OK PackageFile: pcaExplorer_3.3.0.zip PackageFileSize: 7.158 MiB