Package: pcaExplorer Version: 3.5.0 Command: /home/biocbuild/bbs-3.23-bioc/R/bin/R CMD INSTALL pcaExplorer StartedAt: 2025-11-04 15:51:26 -0500 (Tue, 04 Nov 2025) EndedAt: 2025-11-04 15:52:19 -0500 (Tue, 04 Nov 2025) EllapsedTime: 53.9 seconds RetCode: 0 Status: OK