Package: pcaExplorer Version: 3.5.0 Command: /home/biocbuild/bbs-3.23-bioc/R/bin/R CMD check --install=check:pcaExplorer.install-out.txt --library=/home/biocbuild/bbs-3.23-bioc/R/site-library --timings pcaExplorer_3.5.0.tar.gz StartedAt: 2025-11-06 02:24:44 -0500 (Thu, 06 Nov 2025) EndedAt: 2025-11-06 02:35:38 -0500 (Thu, 06 Nov 2025) EllapsedTime: 653.8 seconds RetCode: 0 Status: OK CheckDir: pcaExplorer.Rcheck Warnings: 0