Package: pcaExplorer Version: 3.5.0 Command: /home/biocbuild/bbs-3.23-bioc/R/bin/R CMD build --keep-empty-dirs --no-resave-data pcaExplorer StartedAt: 2025-11-05 19:15:39 -0500 (Wed, 05 Nov 2025) EndedAt: 2025-11-05 19:17:41 -0500 (Wed, 05 Nov 2025) EllapsedTime: 122.1 seconds RetCode: 0 Status: OK PackageFile: pcaExplorer_3.5.0.tar.gz PackageFileSize: 10.72 MiB