Package: pathwayPCA Version: 1.25.0 Command: /home/biocbuild/R/R/bin/R CMD INSTALL pathwayPCA StartedAt: 2025-10-16 21:12:39 -0000 (Thu, 16 Oct 2025) EndedAt: 2025-10-16 21:12:59 -0000 (Thu, 16 Oct 2025) EllapsedTime: 20.5 seconds RetCode: 0 Status: OK