Package: pathwayPCA Version: 1.25.0 Command: /home/biocbuild/R/R/bin/R CMD build --keep-empty-dirs --no-resave-data pathwayPCA StartedAt: 2025-10-17 03:27:11 -0000 (Fri, 17 Oct 2025) EndedAt: 2025-10-17 03:30:28 -0000 (Fri, 17 Oct 2025) EllapsedTime: 197.1 seconds RetCode: 0 Status: OK PackageFile: pathwayPCA_1.25.0.tar.gz PackageFileSize: 2.919 MiB