Package: pathwayPCA Version: 1.25.0 Command: /home/biocbuild/bbs-3.22-bioc/R/bin/R CMD check --install=check:pathwayPCA.install-out.txt --library=/home/biocbuild/bbs-3.22-bioc/R/site-library --timings pathwayPCA_1.25.0.tar.gz StartedAt: 2025-10-07 02:49:05 -0400 (Tue, 07 Oct 2025) EndedAt: 2025-10-07 02:54:25 -0400 (Tue, 07 Oct 2025) EllapsedTime: 320.4 seconds RetCode: 0 Status: OK CheckDir: pathwayPCA.Rcheck Warnings: 0