Package: pathwayPCA Version: 1.27.0 Command: /home/biocbuild/bbs-3.23-bioc/R/bin/R CMD INSTALL pathwayPCA StartedAt: 2025-11-07 15:05:25 -0500 (Fri, 07 Nov 2025) EndedAt: 2025-11-07 15:05:40 -0500 (Fri, 07 Nov 2025) EllapsedTime: 14.7 seconds RetCode: 0 Status: OK