Package: pathwayPCA Version: 1.27.0 Command: /home/biocbuild/bbs-3.23-bioc/R/bin/R CMD check --install=check:pathwayPCA.install-out.txt --library=/home/biocbuild/bbs-3.23-bioc/R/site-library --timings pathwayPCA_1.27.0.tar.gz StartedAt: 2025-11-08 02:27:13 -0500 (Sat, 08 Nov 2025) EndedAt: 2025-11-08 02:32:18 -0500 (Sat, 08 Nov 2025) EllapsedTime: 305.4 seconds RetCode: 0 Status: OK CheckDir: pathwayPCA.Rcheck Warnings: 0