Package: pathwayPCA Version: 1.27.0 Command: /home/biocbuild/bbs-3.23-bioc/R/bin/R CMD build --keep-empty-dirs --no-resave-data pathwayPCA StartedAt: 2025-11-07 19:09:05 -0500 (Fri, 07 Nov 2025) EndedAt: 2025-11-07 19:11:23 -0500 (Fri, 07 Nov 2025) EllapsedTime: 137.1 seconds RetCode: 0 Status: OK PackageFile: pathwayPCA_1.27.0.tar.gz PackageFileSize: 3.388 MiB