Package: pathview Version: 1.49.0 Command: /Library/Frameworks/R.framework/Resources/bin/R CMD INSTALL pathview StartedAt: 2025-10-13 15:28:54 -0400 (Mon, 13 Oct 2025) EndedAt: 2025-10-13 15:29:20 -0400 (Mon, 13 Oct 2025) EllapsedTime: 25.1 seconds RetCode: 0 Status: OK