Package: pathview Version: 1.49.0 Command: /Library/Frameworks/R.framework/Resources/bin/R CMD build --keep-empty-dirs --no-resave-data pathview StartedAt: 2025-10-12 18:33:49 -0400 (Sun, 12 Oct 2025) EndedAt: 2025-10-12 18:36:51 -0400 (Sun, 12 Oct 2025) EllapsedTime: 181.4 seconds RetCode: 0 Status: OK PackageFile: pathview_1.49.0.tar.gz PackageFileSize: 2.428 MiB