Package: pathview Version: 1.49.0 Command: /Library/Frameworks/R.framework/Resources/bin/R CMD build --keep-empty-dirs --no-resave-data pathview StartedAt: 2025-09-29 17:17:11 -0400 (Mon, 29 Sep 2025) EndedAt: 2025-09-29 17:18:04 -0400 (Mon, 29 Sep 2025) EllapsedTime: 52.6 seconds RetCode: 0 Status: OK PackageFile: pathview_1.49.0.tar.gz PackageFileSize: 2.429 MiB