Package: pathlinkR Version: 1.5.3 Command: /home/biocbuild/R/R/bin/R CMD INSTALL pathlinkR StartedAt: 2025-10-09 21:54:45 -0000 (Thu, 09 Oct 2025) EndedAt: 2025-10-09 21:55:06 -0000 (Thu, 09 Oct 2025) EllapsedTime: 20.4 seconds RetCode: 0 Status: OK