Package: pathlinkR Version: 1.5.3 Command: /home/biocbuild/R/R/bin/R CMD build --keep-empty-dirs --no-resave-data pathlinkR StartedAt: 2025-10-10 02:52:36 -0000 (Fri, 10 Oct 2025) EndedAt: 2025-10-10 02:58:40 -0000 (Fri, 10 Oct 2025) EllapsedTime: 363.4 seconds RetCode: 0 Status: OK PackageFile: pathlinkR_1.5.3.tar.gz PackageFileSize: 3.213 MiB