Package: pathlinkR Version: 1.5.2 Command: rm -rf pathlinkR.buildbin-libdir && mkdir pathlinkR.buildbin-libdir && F:\biocbuild\bbs-3.22-bioc\R\bin\R.exe CMD INSTALL --build --library=pathlinkR.buildbin-libdir pathlinkR_1.5.2.tar.gz StartedAt: 2025-08-15 10:55:28 -0400 (Fri, 15 Aug 2025) EndedAt: 2025-08-15 10:56:04 -0400 (Fri, 15 Aug 2025) EllapsedTime: 36.5 seconds RetCode: 0 Status: OK PackageFile: pathlinkR_1.5.2.zip PackageFileSize: 3.294 MiB