Package: pathlinkR Version: 1.7.1 Command: /home/biocbuild/bbs-3.23-bioc/R/bin/R CMD INSTALL pathlinkR StartedAt: 2025-11-05 15:54:17 -0500 (Wed, 05 Nov 2025) EndedAt: 2025-11-05 15:54:34 -0500 (Wed, 05 Nov 2025) EllapsedTime: 16.4 seconds RetCode: 0 Status: OK