Package: pathlinkR Version: 1.7.3 Command: /home/biocbuild/bbs-3.23-bioc/R/bin/R CMD check --install=check:pathlinkR.install-out.txt --library=/home/biocbuild/bbs-3.23-bioc/R/site-library --timings pathlinkR_1.7.3.tar.gz StartedAt: 2025-11-08 02:26:04 -0500 (Sat, 08 Nov 2025) EndedAt: 2025-11-08 02:36:01 -0500 (Sat, 08 Nov 2025) EllapsedTime: 596.9 seconds RetCode: 0 Status: OK CheckDir: pathlinkR.Rcheck Warnings: 0