Package: pathlinkR Version: 1.7.1 Command: /home/biocbuild/bbs-3.23-bioc/R/bin/R CMD build --keep-empty-dirs --no-resave-data pathlinkR StartedAt: 2025-11-05 19:14:45 -0500 (Wed, 05 Nov 2025) EndedAt: 2025-11-05 19:18:25 -0500 (Wed, 05 Nov 2025) EllapsedTime: 220.2 seconds RetCode: 0 Status: OK PackageFile: pathlinkR_1.7.1.tar.gz PackageFileSize: 4.6 MiB