Package: pathlinkR Version: 1.5.3 Maintainer: Travis Blimkie MaintainerEmail: travis.m.blimkie at gmail.com git_url: https://git.bioconductor.org/packages/pathlinkR git_branch: devel git_last_commit: 768237f git_last_commit_date: 2025-09-09 13:47:33 -0400 (Tue, 09 Sep 2025)