Package: pathifier Version: 1.47.0 Command: /home/biocbuild/R/R/bin/R CMD INSTALL pathifier StartedAt: 2025-10-02 20:22:07 -0000 (Thu, 02 Oct 2025) EndedAt: 2025-10-02 20:22:55 -0000 (Thu, 02 Oct 2025) EllapsedTime: 47.7 seconds RetCode: 0 Status: OK