Package: pathifier Version: 1.47.0 Command: /home/biocbuild/R/R/bin/R CMD build --keep-empty-dirs --no-resave-data pathifier StartedAt: 2025-10-03 02:05:45 -0000 (Fri, 03 Oct 2025) EndedAt: 2025-10-03 02:06:06 -0000 (Fri, 03 Oct 2025) EllapsedTime: 21.0 seconds RetCode: 0 Status: OK PackageFile: pathifier_1.47.0.tar.gz PackageFileSize: 2.026 MiB