Package: pathifier Version: 1.47.0 Command: F:\biocbuild\bbs-3.22-bioc\R\bin\R.exe CMD INSTALL pathifier StartedAt: 2025-08-14 15:23:24 -0400 (Thu, 14 Aug 2025) EndedAt: 2025-08-14 15:23:39 -0400 (Thu, 14 Aug 2025) EllapsedTime: 14.1 seconds RetCode: 0 Status: OK