Package: pathifier Version: 1.47.0 Command: chmod a+r pathifier -R && F:\biocbuild\bbs-3.22-bioc\R\bin\R.exe CMD build --keep-empty-dirs --no-resave-data pathifier StartedAt: 2025-08-14 22:12:16 -0400 (Thu, 14 Aug 2025) EndedAt: 2025-08-14 22:12:41 -0400 (Thu, 14 Aug 2025) EllapsedTime: 24.8 seconds RetCode: 0 Status: OK PackageFile: pathifier_1.47.0.tar.gz PackageFileSize: 1.908 MiB