Package: pathifier Version: 1.47.0 Command: /home/biocbuild/bbs-3.22-bioc/R/bin/R CMD INSTALL pathifier StartedAt: 2025-10-03 15:04:54 -0400 (Fri, 03 Oct 2025) EndedAt: 2025-10-03 15:05:07 -0400 (Fri, 03 Oct 2025) EllapsedTime: 12.6 seconds RetCode: 0 Status: OK