Package: pathifier Version: 1.47.0 Command: /home/biocbuild/bbs-3.22-bioc/R/bin/R CMD check --install=check:pathifier.install-out.txt --library=/home/biocbuild/bbs-3.22-bioc/R/site-library --timings pathifier_1.47.0.tar.gz StartedAt: 2025-10-04 02:41:45 -0400 (Sat, 04 Oct 2025) EndedAt: 2025-10-04 02:42:42 -0400 (Sat, 04 Oct 2025) EllapsedTime: 57.1 seconds RetCode: 0 Status: OK CheckDir: pathifier.Rcheck Warnings: 0