Package: pathifier Version: 1.49.0 Command: /home/biocbuild/bbs-3.23-bioc/R/bin/R CMD INSTALL pathifier StartedAt: 2025-10-31 15:13:45 -0400 (Fri, 31 Oct 2025) EndedAt: 2025-10-31 15:13:57 -0400 (Fri, 31 Oct 2025) EllapsedTime: 11.7 seconds RetCode: 0 Status: OK