Package: pathifier Version: 1.49.0 Command: /home/biocbuild/bbs-3.23-bioc/R/bin/R CMD check --install=check:pathifier.install-out.txt --library=/home/biocbuild/bbs-3.23-bioc/R/site-library --timings pathifier_1.49.0.tar.gz StartedAt: 2025-11-01 02:07:31 -0400 (Sat, 01 Nov 2025) EndedAt: 2025-11-01 02:08:40 -0400 (Sat, 01 Nov 2025) EllapsedTime: 69.1 seconds RetCode: 0 Status: OK CheckDir: pathifier.Rcheck Warnings: 0