Package: pathRender Version: 1.77.0 Command: /home/biocbuild/R/R/bin/R CMD INSTALL pathRender StartedAt: 2025-10-09 21:19:52 -0000 (Thu, 09 Oct 2025) EndedAt: 2025-10-09 21:20:10 -0000 (Thu, 09 Oct 2025) EllapsedTime: 17.4 seconds RetCode: 0 Status: OK