Package: pathRender Version: 1.77.0 Command: /home/biocbuild/R/R/bin/R CMD build --keep-empty-dirs --no-resave-data pathRender StartedAt: 2025-10-10 02:54:09 -0000 (Fri, 10 Oct 2025) EndedAt: 2025-10-10 02:54:44 -0000 (Fri, 10 Oct 2025) EllapsedTime: 35.0 seconds RetCode: 0 Status: OK PackageFile: pathRender_1.77.0.tar.gz PackageFileSize: 293 KiB