Package: pathRender Version: 1.79.0 Command: /home/biocbuild/bbs-3.23-bioc/R/bin/R CMD INSTALL pathRender StartedAt: 2025-11-04 15:24:49 -0500 (Tue, 04 Nov 2025) EndedAt: 2025-11-04 15:25:03 -0500 (Tue, 04 Nov 2025) EllapsedTime: 13.3 seconds RetCode: 0 Status: OK