Package: pathRender Version: 1.79.0 Command: /home/biocbuild/bbs-3.23-bioc/R/bin/R CMD check --install=check:pathRender.install-out.txt --library=/home/biocbuild/bbs-3.23-bioc/R/site-library --timings pathRender_1.79.0.tar.gz StartedAt: 2025-11-07 02:13:52 -0500 (Fri, 07 Nov 2025) EndedAt: 2025-11-07 02:16:11 -0500 (Fri, 07 Nov 2025) EllapsedTime: 139.2 seconds RetCode: 0 Status: OK CheckDir: pathRender.Rcheck Warnings: 0