Package: pathRender Version: 1.79.0 Command: /home/biocbuild/bbs-3.23-bioc/R/bin/R CMD build --keep-empty-dirs --no-resave-data pathRender StartedAt: 2025-11-05 19:14:58 -0500 (Wed, 05 Nov 2025) EndedAt: 2025-11-05 19:15:23 -0500 (Wed, 05 Nov 2025) EllapsedTime: 25.0 seconds RetCode: 0 Status: OK PackageFile: pathRender_1.79.0.tar.gz PackageFileSize: 301 KiB