Package: pathMED Version: 1.1.6 Command: /Library/Frameworks/R.framework/Resources/bin/R CMD INSTALL pathMED StartedAt: 2025-10-17 15:50:25 -0400 (Fri, 17 Oct 2025) EndedAt: 2025-10-17 15:50:44 -0400 (Fri, 17 Oct 2025) EllapsedTime: 19.5 seconds RetCode: 0 Status: OK