Package: pathMED Version: 1.1.6 Command: /Library/Frameworks/R.framework/Resources/bin/R CMD build --keep-empty-dirs --no-resave-data pathMED StartedAt: 2025-10-15 18:41:45 -0400 (Wed, 15 Oct 2025) EndedAt: 2025-10-15 18:44:50 -0400 (Wed, 15 Oct 2025) EllapsedTime: 184.3 seconds RetCode: 0 Status: OK PackageFile: pathMED_1.1.6.tar.gz PackageFileSize: 6.346 MiB