Package: pathMED Version: 1.1.6 Maintainer: Jordi Martorell-Marugán MaintainerEmail: jmartorellm at gmail.com git_url: https://git.bioconductor.org/packages/pathMED git_branch: devel git_last_commit: 5a1b067 git_last_commit_date: 2025-10-06 07:44:30 -0400 (Mon, 06 Oct 2025)