Package: partCNV Version: 1.9.0 Command: /Library/Frameworks/R.framework/Resources/bin/R CMD INSTALL partCNV StartedAt: 2025-11-21 15:14:38 -0500 (Fri, 21 Nov 2025) EndedAt: 2025-11-21 15:14:55 -0500 (Fri, 21 Nov 2025) EllapsedTime: 17.3 seconds RetCode: 0 Status: OK